BEGIN:VCALENDAR
VERSION:2.0
PRODID:-//Squarespace Inc/Squarespace 6//v6//EN
BEGIN:VEVENT
UID:5e8d15eefc846f1ffc918448@squarespace.com
DTSTAMP:20200415T051806Z
DTSTART:20200412T030000Z
DTEND:20200412T040000Z
SUMMARY:Australia at Home at Church - Easter Sunday Reflection
END:VEVENT
END:VCALENDAR
