BEGIN:VCALENDAR
VERSION:2.0
PRODID:-//Squarespace Inc/Squarespace 6//v6//EN
BEGIN:VEVENT
UID:5e8c08c6ae195d45f85e33b7@squarespace.com
DTSTAMP:20200415T051752Z
DTSTART:20200409T030000Z
DTEND:20200409T040000Z
SUMMARY:Closing the COVID Gap
END:VEVENT
END:VCALENDAR
