BEGIN:VCALENDAR
VERSION:2.0
PRODID:-//Squarespace Inc/Squarespace 6//v6//EN
BEGIN:VEVENT
UID:5ed0cc6b0d56e8675523ca6e@squarespace.com
DTSTAMP:20200604T051205Z
DTSTART:20200603T030000Z
DTEND:20200603T040000Z
SUMMARY:Class Act - How Class Actions Have Changed Australia
END:VEVENT
END:VCALENDAR
