BEGIN:VCALENDAR
VERSION:2.0
PRODID:-//Squarespace Inc/Squarespace 6//v6//EN
BEGIN:VEVENT
UID:5eb4a45408f6802da1278e80@squarespace.com
DTSTAMP:20200511T065447Z
DTSTART:20200511T030000Z
DTEND:20200511T040000Z
SUMMARY:Capitalising on crisis: How vested interests are manipulating democ
 racy in COVID-19 for their benefit
END:VEVENT
END:VCALENDAR
