BEGIN:VCALENDAR
VERSION:2.0
PRODID:-//Squarespace Inc/Squarespace 6//v6//EN
BEGIN:VEVENT
UID:5ebd067bef75c8796f6e4e2d@squarespace.com
DTSTAMP:20200521T054351Z
DTSTART:20200521T030000Z
DTEND:20200521T040000Z
SUMMARY:Campus Crisis - What is the Future of our Universities
END:VEVENT
END:VCALENDAR
