BEGIN:VCALENDAR
VERSION:2.0
PRODID:-//Squarespace Inc/Squarespace 6//v6//EN
BEGIN:VEVENT
UID:5f0d53cbef4364521c9bd28b@squarespace.com
DTSTAMP:20200721T054645Z
DTSTART:20200721T030000Z
DTEND:20200721T040000Z
SUMMARY:Broken work place\, broken society:What the pandemic response has t
 old us about the Australian labour market
END:VEVENT
END:VCALENDAR
