BEGIN:VCALENDAR
VERSION:2.0
PRODID:-//Squarespace Inc/Squarespace 6//v6//EN
BEGIN:VEVENT
UID:5ed71da7b0544a139d2ca0ef@squarespace.com
DTSTAMP:20200617T054709Z
DTSTART:20200612T030000Z
DTEND:20200612T040000Z
SUMMARY:Guardian Book Club: What Australian Book Should You Read Next?
END:VEVENT
END:VCALENDAR
