BEGIN:VCALENDAR
VERSION:2.0
PRODID:-//Squarespace Inc/Squarespace 6//v6//EN
BEGIN:VEVENT
UID:6024ca3a9a63bc2171a3c624@squarespace.com
DTSTAMP:20210219T033449Z
DTSTART:20210219T020000Z
DTEND:20210219T030000Z
SUMMARY:Guardian Australia's book club: Raising girls in a challenging worl
 d
END:VEVENT
END:VCALENDAR
