BEGIN:VCALENDAR
VERSION:2.0
PRODID:-//Squarespace Inc/Squarespace 6//v6//EN
BEGIN:VEVENT
UID:5f1fcbc127c14e00d74be24d@squarespace.com
DTSTAMP:20200813T051451Z
DTSTART:20200813T030000Z
DTEND:20200813T040000Z
SUMMARY:Guardian Australia’s Book Club: Kate Grenville
END:VEVENT
END:VCALENDAR
