BEGIN:VCALENDAR
VERSION:2.0
PRODID:-//Squarespace Inc/Squarespace 6//v6//EN
BEGIN:VEVENT
UID:5f67fc6928978b1bff2638e4@squarespace.com
DTSTAMP:20200929T035931Z
DTSTART:20200929T013000Z
DTEND:20200929T023000Z
SUMMARY:Book Launch: What Happens Next? with Anthony Albanese
END:VEVENT
END:VCALENDAR
