BEGIN:VCALENDAR
VERSION:2.0
PRODID:-//Squarespace Inc/Squarespace 6//v6//EN
BEGIN:VEVENT
UID:5ee6e315cda9177fb94905c9@squarespace.com
DTSTAMP:20200619T065614Z
DTSTART:20200619T030000Z
DTEND:20200619T040000Z
SUMMARY:Black Lives Matter: What we can do to prevent deaths in custody
END:VEVENT
END:VCALENDAR
