BEGIN:VCALENDAR
VERSION:2.0
PRODID:-//Squarespace Inc/Squarespace 6//v6//EN
BEGIN:VEVENT
UID:5ef58e470e9b45485345d7ea@squarespace.com
DTSTAMP:20200715T230003Z
DTSTART:20200701T000000Z
DTEND:20200701T030000Z
SUMMARY:Australia Together National Community Recovery Summit
END:VEVENT
END:VCALENDAR
