BEGIN:VCALENDAR
VERSION:2.0
PRODID:-//Squarespace Inc/Squarespace 6//v6//EN
BEGIN:VEVENT
UID:6034428b1ccb4a3322f9f18e@squarespace.com
DTSTAMP:20210223T052506Z
DTSTART:20210305T010000Z
DTEND:20210305T020000Z
SUMMARY:#Auspol with Denise Shrivell
END:VEVENT
END:VCALENDAR
