BEGIN:VCALENDAR
VERSION:2.0
PRODID:-//Squarespace Inc/Squarespace 6//v6//EN
BEGIN:VEVENT
UID:60221312ca958571762c7907@squarespace.com
DTSTAMP:20210222T234723Z
DTSTART:20210212T010000Z
DTEND:20210212T020000Z
SUMMARY:#Auspol with Denise Shrivell
END:VEVENT
END:VCALENDAR
