BEGIN:VCALENDAR
VERSION:2.0
PRODID:-//Squarespace Inc/Squarespace 6//v6//EN
BEGIN:VEVENT
UID:5fd218f2b0f0f842d7adb88a@squarespace.com
DTSTAMP:20201217T041659Z
DTSTART:20201217T020000Z
DTEND:20201217T030000Z
SUMMARY:#Auspol Year in review
END:VEVENT
END:VCALENDAR
