BEGIN:VCALENDAR
VERSION:2.0
PRODID:-//Squarespace Inc/Squarespace 6//v6//EN
BEGIN:VEVENT
UID:5ec4e625f4eaf46a7bc6eb3f@squarespace.com
DTSTAMP:20200525T051336Z
DTSTART:20200525T030000Z
DTEND:20200525T040000Z
SUMMARY:Poverty in Australia: pre-COVID realities and post-COVID choices
END:VEVENT
END:VCALENDAR
