BEGIN:VCALENDAR
VERSION:2.0
PRODID:-//Squarespace Inc/Squarespace 6//v6//EN
BEGIN:VEVENT
UID:5faca82d9a1aef48f6019d77@squarespace.com
DTSTAMP:20201120T040548Z
DTSTART:20201120T020000Z
DTEND:20201120T030000Z
SUMMARY:Animals Make Us Human
END:VEVENT
END:VCALENDAR
