BEGIN:VCALENDAR
VERSION:2.0
PRODID:-//Squarespace Inc/Squarespace 6//v6//EN
BEGIN:VEVENT
UID:5ee9dd13d5c8917db8de0c93@squarespace.com
DTSTAMP:20200625T052739Z
DTSTART:20200625T030000Z
DTEND:20200625T040000Z
SUMMARY:Healthy Medicine for a Sick Economy
END:VEVENT
END:VCALENDAR
