BEGIN:VCALENDAR
VERSION:2.0
PRODID:-//Squarespace Inc/Squarespace 6//v6//EN
BEGIN:VEVENT
UID:5ee1c148f1506573c8fc07f9@squarespace.com
DTSTAMP:20200622T051623Z
DTSTART:20200622T030000Z
DTEND:20200622T040000Z
SUMMARY:Time to Tell the Truth: a conversation about Australia’s Indigenous 
 past                        
END:VEVENT
END:VCALENDAR
