BEGIN:VCALENDAR
VERSION:2.0
PRODID:-//Squarespace Inc/Squarespace 6//v6//EN
BEGIN:VEVENT
UID:5eb4e44891421a37a21a3a1c@squarespace.com
DTSTAMP:20200528T055905Z
DTSTART:20200528T030000Z
DTEND:20200528T040000Z
SUMMARY:Supporting aged care through COVID-19 is everyone's business
END:VEVENT
END:VCALENDAR
