BEGIN:VCALENDAR
VERSION:2.0
PRODID:-//Squarespace Inc/Squarespace 6//v6//EN
BEGIN:VEVENT
UID:5eb4c08640adff0e80f15f84@squarespace.com
DTSTAMP:20200514T054216Z
DTSTART:20200514T030000Z
DTEND:20200514T040000Z
SUMMARY:Advance Australia Where?
END:VEVENT
END:VCALENDAR
