BEGIN:VCALENDAR
VERSION:2.0
PRODID:-//Squarespace Inc/Squarespace 6//v6//EN
BEGIN:VEVENT
UID:5efed34d47a3f57348f768bc@squarespace.com
DTSTAMP:20200703T070214Z
DTSTART:20200708T033000Z
DTEND:20200708T050000Z
SUMMARY:Raise The Rate For Good: Emergency Town Hall Meeting
END:VEVENT
END:VCALENDAR
