BEGIN:VCALENDAR
VERSION:2.0
PRODID:-//Squarespace Inc/Squarespace 6//v6//EN
BEGIN:VEVENT
UID:5e86769c45e8bf1e472dc1e3@squarespace.com
DTSTAMP:20200415T051622Z
DTSTART:20200406T030000Z
DTEND:20200406T040000Z
SUMMARY:How can climate action help drive Australia’s recovery?  Kelly O’Sh
 anassy in conversation with Emma Herd
END:VEVENT
END:VCALENDAR
