BEGIN:VCALENDAR
VERSION:2.0
PRODID:-//Squarespace Inc/Squarespace 6//v6//EN
BEGIN:VEVENT
UID:5ef932d3df03ed59011237e1@squarespace.com
DTSTAMP:20200715T225940Z
DTSTART:20200702T030000Z
DTEND:20200702T040000Z
SUMMARY:ABC: Not the 745 News
END:VEVENT
END:VCALENDAR
