BEGIN:VCALENDAR
VERSION:2.0
PRODID:-//Squarespace Inc/Squarespace 6//v6//EN
BEGIN:VEVENT
UID:5f02f3258b89c14abf4f8314@squarespace.com
DTSTAMP:20200715T225916Z
DTSTART:20200714T030000Z
DTEND:20200714T040000Z
SUMMARY:A special Geekfest: Framing the Climate Debate
END:VEVENT
END:VCALENDAR
