BEGIN:VCALENDAR
VERSION:2.0
PRODID:-//Squarespace Inc/Squarespace 6//v6//EN
BEGIN:VEVENT
UID:5eb10891e63f8627301d7623@squarespace.com
DTSTAMP:20200515T044658Z
DTSTART:20200515T030000Z
DTEND:20200515T040000Z
SUMMARY:Guardian Australia Book Club
END:VEVENT
END:VCALENDAR
