BEGIN:VCALENDAR
VERSION:2.0
PRODID:-//Squarespace Inc/Squarespace 6//v6//EN
BEGIN:VEVENT
UID:5f31e7cb11f8b5378413471c@squarespace.com
DTSTAMP:20200914T062231Z
DTSTART:20200914T030000Z
DTEND:20200914T040000Z
SUMMARY:The Carbon Club: The inside story of the vested interests blocking 
 action on climate change
END:VEVENT
END:VCALENDAR
